BEGIN:VCALENDAR
VERSION:2.0
PRODID:-//Ibiza Sabors - ECPv6.15.14//NONSGML v1.0//EN
CALSCALE:GREGORIAN
METHOD:PUBLISH
X-ORIGINAL-URL:https://ibizasabors.com
X-WR-CALDESC:Eventos para Ibiza Sabors
REFRESH-INTERVAL;VALUE=DURATION:PT1H
X-Robots-Tag:noindex
X-PUBLISHED-TTL:PT1H
BEGIN:VTIMEZONE
TZID:UTC
BEGIN:STANDARD
TZOFFSETFROM:+0000
TZOFFSETTO:+0000
TZNAME:UTC
DTSTART:20250101T000000
END:STANDARD
END:VTIMEZONE
BEGIN:VEVENT
DTSTART;TZID=UTC:20260112T110000
DTEND;TZID=UTC:20260112T110000
DTSTAMP:20260423T091709
CREATED:20260109T181418Z
LAST-MODIFIED:20260114T215559Z
UID:857-1768215600-1768215600@ibizasabors.com
SUMMARY:Presentación nueva imagen Ibiza Sabors
DESCRIPTION:Ibiza Sabors presenta su nueva imagen de marca y un nuevo enfoque estratégico para seguir impulsando la gastronomía local y el producto km 0 en la isla. \nUn encuentro abierto al público para descubrir la evolución de Ibiza Sabors\, reforzando su compromiso con la promoción de restaurantes y productores locales\, el territorio y la identidad gastronómica de Ibiza. \nDurante el evento habrá: \n\n\n\n\n\n\n\n\n\n\nFood trucks con producto local de Carn & Coop \n\n\nBall pagès \n\n\nPresentación del nuevo vídeo promocional de Ibiza Sabors – Míralo aquí  \n\n\nUna mañana para celebrar el producto de proximidad\, a las personas que lo hacen posible y el futuro de la gastronomía ibicenca. \n📅 12 de enero🕚 11:00 h📍 Vara de Rey – Ibiza
URL:https://ibizasabors.com/event/presentacion-nueva-imagen-ibiza-sabors/
LOCATION:Islas Baleares
ATTACH;FMTTYPE=image/png:https://ibizasabors.com/wp-content/uploads/2026/01/12-enero-.png
END:VEVENT
BEGIN:VEVENT
DTSTART;TZID=UTC:20260103T080000
DTEND;TZID=UTC:20260103T170000
DTSTAMP:20260423T091709
CREATED:20260108T215321Z
LAST-MODIFIED:20260109T180613Z
UID:687-1767427200-1767459600@ibizasabors.com
SUMMARY:3ª «Fira de la Sobrassada» – Sant Josep de sa Talaia
DESCRIPTION:Llega la 3ª Feria de la sobrasada de Ibiza organizada por  Sant Josep de Sa Talaia y dedicada uno de los principales productos emblemáticos de la isla.\nEs tiempo de matanzas y llega la «Fira de la Sobrassada» primera feria dedicada la sobrasada de Ibiza organtizada por el Ayuntamiento de Sant Josep de sa Talaia y originalmente prevista para el 20 de diciembre pero que se postergó al 3 de enero de 2026 por la previsión de lluvias. \nDurante la feria\, además de música y ambiente festivo tendrá lugar un taller de elaboración de elaboración de sobrasada a cargo de Carn&Coop abierto al público y los asistentes se podrán llevar una sobrasada preparada por ellos mismos. \nLa vertiente gastronómica se completará con talleres infantiles a base de sobrasada por parte de la chef Marga Orell y tapas y vinos en las casetas y a las 14h una «FRITA DE PORC» especial con calamar y sobrasada\, que tambíen es temporada de calamar y era un ingrediente que a menudo se combinaba con sobrasada o incluso se añadía a la «frita de porc».
URL:https://ibizasabors.com/event/3a-fira-de-la-sobrassada-sant-josep-de-sa-talaia/
LOCATION:Islas Baleares
ATTACH;FMTTYPE=image/png:https://ibizasabors.com/wp-content/uploads/2026/01/sobrasada.png
END:VEVENT
END:VCALENDAR